BEGIN:VCALENDAR
VERSION:2.0
PRODID: -//CMS 5.0 //NONSGML //DE
BEGIN:VEVENT
SUMMARY:Gottesdienst
DESCRIPTION:\n\n\n\nhttps://delitzsch.nak-nordost.de/db/597144
UID:597144@delitzsch.nak-nordost.de
LOCATION:
CATEGORIES:Gottesdienst
X-ORGANIZER:
STATUS:CONFIRMED
CLASS:PUBLIC
DTSTART:20260514T080000Z
DTEND:20260514T090000Z
DTSTAMP:20260420T124656Z
CREATED:20260330T080125Z
LAST-MODIFIED:20260330T100124Z
BEGIN:VALARM
UID:03B76CC4-3CB7-11F1-8CBC-EC445429324C
TRIGGER:-PT60M
ACTION:DISPLAY
DESCRIPTION:SUMMARY:Gottesdienst
END:VALARM
END:VEVENT
END:VCALENDAR
